BEGIN:VCALENDAR
VERSION:2.0
PRODID:-//eventon.com NONSGML v1.0//EN
BEGIN:VEVENT
UID:69eb2e78d276a
DTSTAMP:20260424T094856
DTSTART:20221022
DTEND:20221024
TZID:Europe/London
LOCATION:
SUMMARY:FiLiA Women's Liberation Conference
DESCRIPTION: 22-24 October 2022 FiLiA 2022 More information here.\nhttps://ex-muslim.org.uk/events/filia-womens-liberation-conference/
URL:https://ex-muslim.org.uk/events/filia-womens-liberation-conference/
END:VEVENT
END:VCALENDAR