BEGIN:VCALENDAR
VERSION:2.0
PRODID:-//eventon.com NONSGML v1.0//EN
BEGIN:VEVENT
UID:69e89acd7a267
DTSTAMP:20260422T105421
DTSTART:20221004T173000Z
DTEND:20221004T190000Z
TZID:Europe/London
LOCATION:
SUMMARY:October Online Support Group Session
DESCRIPTION: Join monthly support groups to talk about issues that affect ex-Muslims. CEMB currently has two 90-minute online sessions on the first Monday and Tuesday of every month\,  6.30-8.00pm UK time. The sessions are led by Counselling Psychologist Dr SAVIN BAPIR-TARDY. If you have never attended a session before\,  please email[..]\nhttps://ex-muslim.org.uk/events/october-online-support-group-session-4/
URL:https://ex-muslim.org.uk/events/october-online-support-group-session-4/
END:VEVENT
END:VCALENDAR